BEGIN:VCALENDAR
VERSION:2.0
PRODID:-//UJK//Calendar//PL
X-WR-CALNAME:Uniwersytet Jana Kochanowskiego w Kielcach – Wydarzenia
X-WR-TIMEZONE:Europe/Warsaw
BEGIN:VEVENT
UID:7735@ujk.edu.pl
DTSTAMP:20260419T132147Z
SUMMARY:Wykład otwarty dr. Piotra Szpunara &#8211\\;dyrektora EBOR
DTSTART;TZID=Europe/Warsaw:20260108T113000
DTEND;TZID=Europe/Warsaw:20260108T113000
LOCATION:Wydział Prawa i Nauk Społecznych\, ul. Uniwersytecka 15
DESCRIPTION:W imieniu w&#322\;adz Wydzia&#322\;u Prawa i Nauk Spo&#322\;ecznych UJK zapraszamy wszystkich pracownik&oacute\;w i student&oacute\;w na wyk&#322\;ad otwarty dr. Piotra Szpunara pt. &bdquo\;Znaczenie dzia&#322\;alno&#347\;ci EBOR dla transformacji polskiej gospodarki&rdquo\;. Wydarzenie odb&#281\;dzie si&#281\\;8 stycznia 2026 r. (czwartek) o godz. 11:30 w auli C 0.5B Wydzia&#322\;u Prawa i Nauk Spo&#322\;ecznych przy ul. Uniwersyteckiej 15. Wst&#281\;p wolny &ndash\\;[&hellip\;]
URL:https://ujk.edu.pl/wydarzenia/wyklad-otwarty-dr-piotra-szpunara-dyrektora-ebor/
END:VEVENT
END:VCALENDAR
